BEGIN:VCALENDAR
VERSION:2.0
PRODID:icalendar-ruby
CALSCALE:GREGORIAN
METHOD:PUBLISH
BEGIN:VEVENT
DTSTAMP:20260424T152021Z
UID:95-1108601@mtm-umc.org
DTSTART:20260424T213000Z
DTEND:20260424T223000Z
CLASS:PUBLIC
CREATED:20260422T152817
DESCRIPTION:Join Pastor Adeline for an evening of multigenerational worship
 \, fellowship\, &amp\; interactive game/craft stations! Supper is included
 !! \nPlease RSVP to Pastor Adeline.
LAST-MODIFIED:20260422T152817
LOCATION:176 S. Broad St.\, Milford\, CT
SUMMARY:Messy Church
URL;VALUE=URI:https://mtm-umc.org/events/messy-church--95/2026-04-24
ATTACH;FILENAME=messy church april 2026 flyer.jpg;FMTTYPE=image/jpeg:https:
 //dq5pwpg1q8ru0.cloudfront.net/2026/04/22/12/30/56/7189579d-42f6-4b62-9a20
 -d88efa5dca1b/messy%20church%20april%202026%20flyer.jpg
END:VEVENT
END:VCALENDAR
