BEGIN:VCALENDAR
VERSION:2.0
PRODID:icalendar-ruby
CALSCALE:GREGORIAN
METHOD:PUBLISH
BEGIN:VEVENT
DTSTAMP:20260423T033202Z
UID:98-1108604@mtm-umc.org
DTSTART:20260507T133000Z
DTEND:20260507T160000Z
CLASS:PUBLIC
CREATED:20260422T154051
DESCRIPTION:Laura's Treasure Trove is open to the public for shopping. Stop
  by and browse our selection of new and gently used items. We would love t
 o see you! Open Thursdays from 9:30AM-12PM through May 28th. \nParking is
  available in the lot behind the church. Laura's is in the church basement
 . Outside entrances is near the parking lot. \nContact the church office 
 at 203-874-1982 with any questions. 
LAST-MODIFIED:20260422T154051
LOCATION:176 S. Broad St.\, Milford\, CT
SUMMARY:Laura's Shopping Hours
URL;VALUE=URI:https://mtm-umc.org/events/lauras-shopping-hours/2026-05-07
ATTACH;FILENAME=Lauras shopping flyer.png;FMTTYPE=image/png:https://dq5pwpg
 1q8ru0.cloudfront.net/2026/04/22/19/40/51/3e02a6f1-42b5-4ad8-8623-7d69a97d
 efa6/Lauras%20shopping%20flyer.png
END:VEVENT
END:VCALENDAR
